Package: npGSEA Version: 1.42.0 Command: /Library/Frameworks/R.framework/Resources/bin/R CMD build --keep-empty-dirs --no-resave-data npGSEA StartedAt: 2025-02-03 20:56:11 -0500 (Mon, 03 Feb 2025) EndedAt: 2025-02-03 20:57:35 -0500 (Mon, 03 Feb 2025) EllapsedTime: 84.6 seconds RetCode: 0 Status: OK PackageFile: npGSEA_1.42.0.tar.gz PackageFileSize: 357.3 KiB