Package: npGSEA Version: 1.42.0 Command: /home/biocbuild/bbs-3.20-bioc/R/bin/R CMD check --install=check:npGSEA.install-out.txt --library=/home/biocbuild/bbs-3.20-bioc/R/site-library --timings npGSEA_1.42.0.tar.gz StartedAt: 2025-02-04 00:46:24 -0500 (Tue, 04 Feb 2025) EndedAt: 2025-02-04 00:48:14 -0500 (Tue, 04 Feb 2025) EllapsedTime: 110.1 seconds RetCode: 0 Status: OK CheckDir: npGSEA.Rcheck Warnings: 0