Package: npGSEA Version: 1.42.0 Command: rm -rf npGSEA.buildbin-libdir && mkdir npGSEA.buildbin-libdir && F:\biocbuild\bbs-3.20-bioc\R\bin\R.exe CMD INSTALL --build --library=npGSEA.buildbin-libdir npGSEA_1.42.0.tar.gz StartedAt: 2025-02-11 09:02:09 -0500 (Tue, 11 Feb 2025) EndedAt: 2025-02-11 09:02:51 -0500 (Tue, 11 Feb 2025) EllapsedTime: 41.7 seconds RetCode: 0 Status: OK PackageFile: npGSEA_1.42.0.zip PackageFileSize: 636.4 KiB