Package: npGSEA Version: 1.42.0 Command: chmod a+r npGSEA -R && F:\biocbuild\bbs-3.20-bioc\R\bin\R.exe CMD build --keep-empty-dirs --no-resave-data npGSEA StartedAt: 2025-02-03 20:51:39 -0500 (Mon, 03 Feb 2025) EndedAt: 2025-02-03 20:52:30 -0500 (Mon, 03 Feb 2025) EllapsedTime: 51.0 seconds RetCode: 0 Status: OK PackageFile: npGSEA_1.42.0.tar.gz PackageFileSize: 293.6 KiB