Package: npGSEA Version: 1.42.0 Command: F:\biocbuild\bbs-3.20-bioc\R\bin\R.exe CMD check --no-multiarch --install=check:npGSEA.install-out.txt --library=F:\biocbuild\bbs-3.20-bioc\R\library --no-vignettes --timings npGSEA_1.42.0.tar.gz StartedAt: 2025-02-11 04:22:02 -0500 (Tue, 11 Feb 2025) EndedAt: 2025-02-11 04:24:04 -0500 (Tue, 11 Feb 2025) EllapsedTime: 122.1 seconds RetCode: 0 Status: OK CheckDir: npGSEA.Rcheck Warnings: 0