Package: npGSEA Version: 1.42.0 Command: /home/biocbuild/R/R/bin/R CMD build --keep-empty-dirs --no-resave-data npGSEA StartedAt: 2025-02-04 01:28:03 -0000 (Tue, 04 Feb 2025) EndedAt: 2025-02-04 01:28:41 -0000 (Tue, 04 Feb 2025) EllapsedTime: 38.0 seconds RetCode: 0 Status: OK PackageFile: npGSEA_1.42.0.tar.gz PackageFileSize: 357.3 KiB