Package: npGSEA Version: 1.42.0 Command: /home/biocbuild/R/R/bin/R CMD check --install=check:npGSEA.install-out.txt --library=/home/biocbuild/R/R/site-library --no-vignettes --timings npGSEA_1.42.0.tar.gz StartedAt: 2025-02-04 09:26:26 -0000 (Tue, 04 Feb 2025) EndedAt: 2025-02-04 09:28:43 -0000 (Tue, 04 Feb 2025) EllapsedTime: 137.3 seconds RetCode: 0 Status: OK CheckDir: npGSEA.Rcheck Warnings: 0