Package: nuCpos Version: 1.24.0 Command: /Library/Frameworks/R.framework/Resources/bin/R CMD build --keep-empty-dirs --no-resave-data nuCpos StartedAt: 2025-02-04 04:50:11 -0500 (Tue, 04 Feb 2025) EndedAt: 2025-02-04 04:50:32 -0500 (Tue, 04 Feb 2025) EllapsedTime: 20.6 seconds RetCode: 0 Status: OK PackageFile: nuCpos_1.24.0.tar.gz PackageFileSize: 2.392 MiB