Package: nuCpos Version: 1.24.0 Command: /Library/Frameworks/R.framework/Resources/bin/R CMD check --install=check:nuCpos.install-out.txt --library=/Library/Frameworks/R.framework/Resources/library --no-vignettes --timings nuCpos_1.24.0.tar.gz StartedAt: 2025-02-04 07:22:28 -0500 (Tue, 04 Feb 2025) EndedAt: 2025-02-04 07:23:32 -0500 (Tue, 04 Feb 2025) EllapsedTime: 64.3 seconds RetCode: 0 Status: OK CheckDir: nuCpos.Rcheck Warnings: 0