Package: nuCpos Version: 1.24.0 Command: /home/biocbuild/bbs-3.20-bioc/R/bin/R CMD check --install=check:nuCpos.install-out.txt --library=/home/biocbuild/bbs-3.20-bioc/R/site-library --timings nuCpos_1.24.0.tar.gz StartedAt: 2025-02-11 00:38:20 -0500 (Tue, 11 Feb 2025) EndedAt: 2025-02-11 00:38:54 -0500 (Tue, 11 Feb 2025) EllapsedTime: 34.1 seconds RetCode: 0 Status: OK CheckDir: nuCpos.Rcheck Warnings: 0