Package: nuCpos Version: 1.24.0 Command: chmod a+r nuCpos -R && F:\biocbuild\bbs-3.20-bioc\R\bin\R.exe CMD build --keep-empty-dirs --no-resave-data nuCpos StartedAt: 2025-02-03 20:52:03 -0500 (Mon, 03 Feb 2025) EndedAt: 2025-02-03 20:52:25 -0500 (Mon, 03 Feb 2025) EllapsedTime: 22.4 seconds RetCode: 0 Status: OK PackageFile: nuCpos_1.24.0.tar.gz PackageFileSize: 2.269 MiB