Package: nucleR Version: 2.38.0 Command: /Library/Frameworks/R.framework/Resources/bin/R CMD build --keep-empty-dirs --no-resave-data nucleR StartedAt: 2025-01-31 04:42:03 -0500 (Fri, 31 Jan 2025) EndedAt: 2025-01-31 04:43:31 -0500 (Fri, 31 Jan 2025) EllapsedTime: 87.7 seconds RetCode: 0 Status: OK PackageFile: nucleR_2.38.0.tar.gz PackageFileSize: 1.834 MiB