Package: nucleR Version: 2.38.0 Command: /Library/Frameworks/R.framework/Resources/bin/R CMD INSTALL nucleR StartedAt: 2025-01-30 16:17:40 -0500 (Thu, 30 Jan 2025) EndedAt: 2025-01-30 16:18:22 -0500 (Thu, 30 Jan 2025) EllapsedTime: 41.8 seconds RetCode: 0 Status: OK