Package: nucleR Version: 2.38.0 Command: /Library/Frameworks/R.framework/Resources/bin/R CMD check --install=check:nucleR.install-out.txt --library=/Library/Frameworks/R.framework/Resources/library --no-vignettes --timings nucleR_2.38.0.tar.gz StartedAt: 2025-01-31 07:25:59 -0500 (Fri, 31 Jan 2025) EndedAt: 2025-01-31 07:35:48 -0500 (Fri, 31 Jan 2025) EllapsedTime: 589.2 seconds RetCode: 0 Status: WARNINGS CheckDir: nucleR.Rcheck Warnings: 1