Package: nucleR Version: 2.38.0 Command: /Library/Frameworks/R.framework/Resources/bin/R CMD INSTALL nucleR StartedAt: 2025-01-30 15:46:50 -0500 (Thu, 30 Jan 2025) EndedAt: 2025-01-30 15:48:09 -0500 (Thu, 30 Jan 2025) EllapsedTime: 78.5 seconds RetCode: 0 Status: OK