Package: nucleR Version: 2.38.0 Command: chmod a+r nucleR -R && F:\biocbuild\bbs-3.20-bioc\R\bin\R.exe CMD build --keep-empty-dirs --no-resave-data nucleR StartedAt: 2025-02-03 20:52:00 -0500 (Mon, 03 Feb 2025) EndedAt: 2025-02-03 20:53:43 -0500 (Mon, 03 Feb 2025) EllapsedTime: 103.3 seconds RetCode: 0 Status: OK PackageFile: nucleR_2.38.0.tar.gz PackageFileSize: 1.177 MiB