Package: nucleR Version: 2.38.0 Command: F:\biocbuild\bbs-3.20-bioc\R\bin\R.exe CMD check --no-multiarch --install=check:nucleR.install-out.txt --library=F:\biocbuild\bbs-3.20-bioc\R\library --no-vignettes --timings nucleR_2.38.0.tar.gz StartedAt: 2025-02-04 04:28:19 -0500 (Tue, 04 Feb 2025) EndedAt: 2025-02-04 04:33:53 -0500 (Tue, 04 Feb 2025) EllapsedTime: 334.5 seconds RetCode: 0 Status: WARNINGS CheckDir: nucleR.Rcheck Warnings: 1