Package: nucleR Version: 2.38.0 Command: F:\biocbuild\bbs-3.20-bioc\R\bin\R.exe CMD INSTALL nucleR StartedAt: 2025-02-03 17:06:11 -0500 (Mon, 03 Feb 2025) EndedAt: 2025-02-03 17:07:10 -0500 (Mon, 03 Feb 2025) EllapsedTime: 59.0 seconds RetCode: 0 Status: OK