Package: nucleR Version: 2.38.0 Command: /home/biocbuild/R/R/bin/R CMD build --keep-empty-dirs --no-resave-data nucleR StartedAt: 2025-02-04 01:28:34 -0000 (Tue, 04 Feb 2025) EndedAt: 2025-02-04 01:30:44 -0000 (Tue, 04 Feb 2025) EllapsedTime: 130.2 seconds RetCode: 0 Status: OK PackageFile: nucleR_2.38.0.tar.gz PackageFileSize: 1.382 MiB