Package: nucleR Version: 2.38.0 Command: /home/biocbuild/R/R/bin/R CMD check --install=check:nucleR.install-out.txt --library=/home/biocbuild/R/R/site-library --no-vignettes --timings nucleR_2.38.0.tar.gz StartedAt: 2025-02-04 09:26:57 -0000 (Tue, 04 Feb 2025) EndedAt: 2025-02-04 09:32:57 -0000 (Tue, 04 Feb 2025) EllapsedTime: 360.7 seconds RetCode: 0 Status: WARNINGS CheckDir: nucleR.Rcheck Warnings: 1