Package: nucleoSim Version: 1.34.0 Command: /Library/Frameworks/R.framework/Resources/bin/R CMD check --install=check:nucleoSim.install-out.txt --library=/Library/Frameworks/R.framework/Resources/library --no-vignettes --timings nucleoSim_1.34.0.tar.gz StartedAt: 2025-02-05 04:07:53 -0500 (Wed, 05 Feb 2025) EndedAt: 2025-02-05 04:08:54 -0500 (Wed, 05 Feb 2025) EllapsedTime: 61.5 seconds RetCode: 0 Status: OK CheckDir: nucleoSim.Rcheck Warnings: 0