Package: nucleoSim Version: 1.34.0 Command: /Library/Frameworks/R.framework/Resources/bin/R CMD INSTALL nucleoSim StartedAt: 2025-02-10 15:09:58 -0500 (Mon, 10 Feb 2025) EndedAt: 2025-02-10 15:10:07 -0500 (Mon, 10 Feb 2025) EllapsedTime: 8.6 seconds RetCode: 0 Status: OK