Package: nucleoSim Version: 1.34.0 Command: rm -rf nucleoSim.buildbin-libdir && mkdir nucleoSim.buildbin-libdir && /Users/biocbuild/BBS/utils/build-universal.sh nucleoSim_1.34.0.tar.gz /Library/Frameworks/R.framework/Resources/bin/R nucleoSim.buildbin-libdir StartedAt: 2025-02-04 13:39:27 -0500 (Tue, 04 Feb 2025) EndedAt: 2025-02-04 13:39:50 -0500 (Tue, 04 Feb 2025) EllapsedTime: 23.9 seconds RetCode: 0 Status: OK PackageFile: nucleoSim_1.34.0.tgz PackageFileSize: 494.2 KiB