Package: nucleoSim Version: 1.34.0 Command: /Library/Frameworks/R.framework/Resources/bin/R CMD build --keep-empty-dirs --no-resave-data nucleoSim StartedAt: 2025-02-03 20:56:39 -0500 (Mon, 03 Feb 2025) EndedAt: 2025-02-03 20:57:09 -0500 (Mon, 03 Feb 2025) EllapsedTime: 29.1 seconds RetCode: 0 Status: OK PackageFile: nucleoSim_1.34.0.tar.gz PackageFileSize: 463.5 KiB