Package: nucleoSim Version: 1.34.0 Command: /Library/Frameworks/R.framework/Resources/bin/R CMD check --install=check:nucleoSim.install-out.txt --library=/Library/Frameworks/R.framework/Resources/library --no-vignettes --timings nucleoSim_1.34.0.tar.gz StartedAt: 2025-02-11 07:39:33 -0500 (Tue, 11 Feb 2025) EndedAt: 2025-02-11 07:44:06 -0500 (Tue, 11 Feb 2025) EllapsedTime: 273.1 seconds RetCode: 0 Status: OK CheckDir: nucleoSim.Rcheck Warnings: 0