Package: nucleoSim Version: 1.34.0 Command: /Library/Frameworks/R.framework/Resources/bin/R CMD INSTALL nucleoSim StartedAt: 2025-02-03 15:17:06 -0500 (Mon, 03 Feb 2025) EndedAt: 2025-02-03 15:17:20 -0500 (Mon, 03 Feb 2025) EllapsedTime: 14.1 seconds RetCode: 0 Status: OK