Package: nullranges Version: 1.12.0 Command: /Library/Frameworks/R.framework/Resources/bin/R CMD build --keep-empty-dirs --no-resave-data nullranges StartedAt: 2025-02-11 04:48:07 -0500 (Tue, 11 Feb 2025) EndedAt: 2025-02-11 04:51:08 -0500 (Tue, 11 Feb 2025) EllapsedTime: 181.2 seconds RetCode: 0 Status: OK PackageFile: nullranges_1.12.0.tar.gz PackageFileSize: 5.086 MiB