Package: nullranges Version: 1.12.0 Command: /Library/Frameworks/R.framework/Resources/bin/R CMD check --install=check:nullranges.install-out.txt --library=/Library/Frameworks/R.framework/Resources/library --no-vignettes --timings nullranges_1.12.0.tar.gz StartedAt: 2025-02-05 04:08:54 -0500 (Wed, 05 Feb 2025) EndedAt: 2025-02-05 04:14:11 -0500 (Wed, 05 Feb 2025) EllapsedTime: 316.8 seconds RetCode: 0 Status: OK CheckDir: nullranges.Rcheck Warnings: 0