Package: nullranges Version: 1.12.0 Command: rm -rf nullranges.buildbin-libdir && mkdir nullranges.buildbin-libdir && /Users/biocbuild/BBS/utils/build-universal.sh nullranges_1.12.0.tar.gz /Library/Frameworks/R.framework/Resources/bin/R nullranges.buildbin-libdir StartedAt: 2025-01-31 13:18:23 -0500 (Fri, 31 Jan 2025) EndedAt: 2025-01-31 13:19:46 -0500 (Fri, 31 Jan 2025) EllapsedTime: 83.2 seconds RetCode: 0 Status: OK PackageFile: nullranges_1.12.0.tgz PackageFileSize: 5.017 MiB