Package: nullranges Version: 1.12.0 Command: /Library/Frameworks/R.framework/Resources/bin/R CMD build --keep-empty-dirs --no-resave-data nullranges StartedAt: 2025-02-03 20:56:52 -0500 (Mon, 03 Feb 2025) EndedAt: 2025-02-03 21:01:31 -0500 (Mon, 03 Feb 2025) EllapsedTime: 279.1 seconds RetCode: 0 Status: OK PackageFile: nullranges_1.12.0.tar.gz PackageFileSize: 5.085 MiB