Package: nullranges Version: 1.12.0 Command: /home/biocbuild/bbs-3.20-bioc/R/bin/R CMD INSTALL nullranges StartedAt: 2025-02-03 15:30:48 -0500 (Mon, 03 Feb 2025) EndedAt: 2025-02-03 15:31:24 -0500 (Mon, 03 Feb 2025) EllapsedTime: 36.4 seconds RetCode: 0 Status: OK