Package: nullranges Version: 1.12.0 Command: rm -rf nullranges.buildbin-libdir && mkdir nullranges.buildbin-libdir && F:\biocbuild\bbs-3.20-bioc\R\bin\R.exe CMD INSTALL --build --library=nullranges.buildbin-libdir nullranges_1.12.0.tar.gz StartedAt: 2025-02-04 09:05:12 -0500 (Tue, 04 Feb 2025) EndedAt: 2025-02-04 09:06:54 -0500 (Tue, 04 Feb 2025) EllapsedTime: 101.8 seconds RetCode: 0 Status: OK PackageFile: nullranges_1.12.0.zip PackageFileSize: 3.617 MiB