Package: nullranges Version: 1.12.0 Command: chmod a+r nullranges -R && F:\biocbuild\bbs-3.20-bioc\R\bin\R.exe CMD build --keep-empty-dirs --no-resave-data nullranges StartedAt: 2025-01-30 20:36:46 -0500 (Thu, 30 Jan 2025) EndedAt: 2025-01-30 20:41:39 -0500 (Thu, 30 Jan 2025) EllapsedTime: 292.7 seconds RetCode: 0 Status: OK PackageFile: nullranges_1.12.0.tar.gz PackageFileSize: 3.682 MiB