Package: nullranges Version: 1.12.0 Command: F:\biocbuild\bbs-3.20-bioc\R\bin\R.exe CMD check --no-multiarch --install=check:nullranges.install-out.txt --library=F:\biocbuild\bbs-3.20-bioc\R\library --no-vignettes --timings nullranges_1.12.0.tar.gz StartedAt: 2025-02-04 04:28:52 -0500 (Tue, 04 Feb 2025) EndedAt: 2025-02-04 04:34:30 -0500 (Tue, 04 Feb 2025) EllapsedTime: 337.5 seconds RetCode: 0 Status: OK CheckDir: nullranges.Rcheck Warnings: 0