Package: nullranges Version: 1.12.0 Command: /home/biocbuild/R/R/bin/R CMD build --keep-empty-dirs --no-resave-data nullranges StartedAt: 2025-02-04 01:28:45 -0000 (Tue, 04 Feb 2025) EndedAt: 2025-02-04 01:33:03 -0000 (Tue, 04 Feb 2025) EllapsedTime: 258.5 seconds RetCode: 0 Status: OK PackageFile: nullranges_1.12.0.tar.gz PackageFileSize: 4.458 MiB