Package: omada Version: 1.8.0 Command: /Library/Frameworks/R.framework/Resources/bin/R CMD build --keep-empty-dirs --no-resave-data omada StartedAt: 2025-02-10 20:59:36 -0500 (Mon, 10 Feb 2025) EndedAt: 2025-02-10 21:03:06 -0500 (Mon, 10 Feb 2025) EllapsedTime: 209.8 seconds RetCode: 0 Status: OK PackageFile: omada_1.8.0.tar.gz PackageFileSize: 202 KiB