Package: omada Version: 1.8.0 Command: /home/biocbuild/bbs-3.20-bioc/R/bin/R CMD check --install=check:omada.install-out.txt --library=/home/biocbuild/bbs-3.20-bioc/R/site-library --timings omada_1.8.0.tar.gz StartedAt: 2025-02-04 00:48:37 -0500 (Tue, 04 Feb 2025) EndedAt: 2025-02-04 01:01:34 -0500 (Tue, 04 Feb 2025) EllapsedTime: 777.0 seconds RetCode: 0 Status: OK CheckDir: omada.Rcheck Warnings: 0