Package: omicRexposome Version: 1.28.0 Command: rm -rf omicRexposome.buildbin-libdir && mkdir omicRexposome.buildbin-libdir && /Users/biocbuild/BBS/utils/build-universal.sh omicRexposome_1.28.0.tar.gz /Library/Frameworks/R.framework/Resources/bin/R omicRexposome.buildbin-libdir StartedAt: 2025-02-01 16:04:39 -0500 (Sat, 01 Feb 2025) EndedAt: 2025-02-01 16:05:39 -0500 (Sat, 01 Feb 2025) EllapsedTime: 59.9 seconds RetCode: 0 Status: OK PackageFile: omicRexposome_1.28.0.tgz PackageFileSize: 2.925 MiB