Package: omicRexposome Version: 1.28.0 Command: /Library/Frameworks/R.framework/Resources/bin/R CMD check --install=check:omicRexposome.install-out.txt --library=/Library/Frameworks/R.framework/Resources/library --no-vignettes --timings omicRexposome_1.28.0.tar.gz StartedAt: 2025-02-01 03:38:16 -0500 (Sat, 01 Feb 2025) EndedAt: 2025-02-01 03:43:14 -0500 (Sat, 01 Feb 2025) EllapsedTime: 298.1 seconds RetCode: 0 Status: OK CheckDir: omicRexposome.Rcheck Warnings: 0