Package: omicRexposome Version: 1.28.0 Command: /Library/Frameworks/R.framework/Resources/bin/R CMD INSTALL omicRexposome StartedAt: 2025-01-30 17:44:32 -0500 (Thu, 30 Jan 2025) EndedAt: 2025-01-30 17:45:25 -0500 (Thu, 30 Jan 2025) EllapsedTime: 52.8 seconds RetCode: 0 Status: OK