Package: omicRexposome Version: 1.28.0 Command: rm -rf omicRexposome.buildbin-libdir && mkdir omicRexposome.buildbin-libdir && /Users/biocbuild/BBS/utils/build-universal.sh omicRexposome_1.28.0.tar.gz /Library/Frameworks/R.framework/Resources/bin/R omicRexposome.buildbin-libdir StartedAt: 2025-02-04 13:40:26 -0500 (Tue, 04 Feb 2025) EndedAt: 2025-02-04 13:43:13 -0500 (Tue, 04 Feb 2025) EllapsedTime: 167.4 seconds RetCode: 0 Status: OK PackageFile: omicRexposome_1.28.0.tgz PackageFileSize: 2.904 MiB