Package: omicRexposome Version: 1.28.0 Command: /Library/Frameworks/R.framework/Resources/bin/R CMD build --keep-empty-dirs --no-resave-data omicRexposome StartedAt: 2025-01-30 21:31:38 -0500 (Thu, 30 Jan 2025) EndedAt: 2025-01-30 21:52:24 -0500 (Thu, 30 Jan 2025) EllapsedTime: 1245.6 seconds RetCode: 0 Status: OK PackageFile: omicRexposome_1.28.0.tar.gz PackageFileSize: 2.59 MiB