Package: omicRexposome Version: 1.28.0 Command: chmod a+r omicRexposome -R && F:\biocbuild\bbs-3.20-bioc\R\bin\R.exe CMD build --keep-empty-dirs --no-resave-data omicRexposome StartedAt: 2025-01-30 20:38:05 -0500 (Thu, 30 Jan 2025) EndedAt: 2025-01-30 21:18:06 -0500 (Thu, 30 Jan 2025) EllapsedTime: 2400.3 seconds RetCode: None Status: TIMEOUT PackageFile: None PackageFileSize: NA