Package: omicRexposome Version: 1.28.0 Command: /home/biocbuild/R/R/bin/R CMD build --keep-empty-dirs --no-resave-data omicRexposome StartedAt: 2025-01-31 01:28:26 -0000 (Fri, 31 Jan 2025) EndedAt: 2025-01-31 01:41:48 -0000 (Fri, 31 Jan 2025) EllapsedTime: 802.2 seconds RetCode: 0 Status: OK PackageFile: omicRexposome_1.28.0.tar.gz PackageFileSize: 1.922 MiB