Package: omicsViewer Version: 1.10.0 Command: rm -rf omicsViewer.buildbin-libdir && mkdir omicsViewer.buildbin-libdir && /Users/biocbuild/BBS/utils/build-universal.sh omicsViewer_1.10.0.tar.gz /Library/Frameworks/R.framework/Resources/bin/R omicsViewer.buildbin-libdir StartedAt: 2025-02-01 16:05:00 -0500 (Sat, 01 Feb 2025) EndedAt: 2025-02-01 16:05:41 -0500 (Sat, 01 Feb 2025) EllapsedTime: 41.5 seconds RetCode: 0 Status: OK PackageFile: omicsViewer_1.10.0.tgz PackageFileSize: 4.365 MiB