Package: omicsViewer Version: 1.10.0 Command: /Library/Frameworks/R.framework/Resources/bin/R CMD build --keep-empty-dirs --no-resave-data omicsViewer StartedAt: 2025-01-31 04:48:29 -0500 (Fri, 31 Jan 2025) EndedAt: 2025-01-31 04:49:26 -0500 (Fri, 31 Jan 2025) EllapsedTime: 57.7 seconds RetCode: 0 Status: OK PackageFile: omicsViewer_1.10.0.tar.gz PackageFileSize: 4.325 MiB