Package: omicsViewer Version: 1.10.0 Command: /Library/Frameworks/R.framework/Resources/bin/R CMD check --install=check:omicsViewer.install-out.txt --library=/Library/Frameworks/R.framework/Resources/library --no-vignettes --timings omicsViewer_1.10.0.tar.gz StartedAt: 2025-02-05 04:22:46 -0500 (Wed, 05 Feb 2025) EndedAt: 2025-02-05 04:28:25 -0500 (Wed, 05 Feb 2025) EllapsedTime: 339.0 seconds RetCode: 0 Status: OK CheckDir: omicsViewer.Rcheck Warnings: 0