Package: omicsViewer Version: 1.10.0 Command: /Library/Frameworks/R.framework/Resources/bin/R CMD INSTALL omicsViewer StartedAt: 2025-02-03 18:15:38 -0500 (Mon, 03 Feb 2025) EndedAt: 2025-02-03 18:16:15 -0500 (Mon, 03 Feb 2025) EllapsedTime: 36.9 seconds RetCode: 0 Status: OK