Package: omicsViewer Version: 1.10.0 Command: /Library/Frameworks/R.framework/Resources/bin/R CMD build --keep-empty-dirs --no-resave-data omicsViewer StartedAt: 2025-01-30 21:32:04 -0500 (Thu, 30 Jan 2025) EndedAt: 2025-01-30 21:33:59 -0500 (Thu, 30 Jan 2025) EllapsedTime: 115.4 seconds RetCode: 0 Status: OK PackageFile: omicsViewer_1.10.0.tar.gz PackageFileSize: 4.325 MiB