Package: omicsViewer Version: 1.10.0 Command: /Library/Frameworks/R.framework/Resources/bin/R CMD INSTALL omicsViewer StartedAt: 2025-02-03 16:49:18 -0500 (Mon, 03 Feb 2025) EndedAt: 2025-02-03 16:50:29 -0500 (Mon, 03 Feb 2025) EllapsedTime: 71.3 seconds RetCode: 0 Status: OK